BEGIN:VCALENDAR
VERSION:2.0
PRODID:-//Monmouth Park - ECPv6.15.14//NONSGML v1.0//EN
CALSCALE:GREGORIAN
METHOD:PUBLISH
X-WR-CALNAME:Monmouth Park
X-ORIGINAL-URL:https://www.monmouthpark.com
X-WR-CALDESC:Events for Monmouth Park
REFRESH-INTERVAL;VALUE=DURATION:PT1H
X-Robots-Tag:noindex
X-PUBLISHED-TTL:PT1H
BEGIN:VTIMEZONE
TZID:America/New_York
BEGIN:DAYLIGHT
TZOFFSETFROM:-0500
TZOFFSETTO:-0400
TZNAME:EDT
DTSTART:20220313T070000
END:DAYLIGHT
BEGIN:STANDARD
TZOFFSETFROM:-0400
TZOFFSETTO:-0500
TZNAME:EST
DTSTART:20221106T060000
END:STANDARD
BEGIN:DAYLIGHT
TZOFFSETFROM:-0500
TZOFFSETTO:-0400
TZNAME:EDT
DTSTART:20230312T070000
END:DAYLIGHT
BEGIN:STANDARD
TZOFFSETFROM:-0400
TZOFFSETTO:-0500
TZNAME:EST
DTSTART:20231105T060000
END:STANDARD
BEGIN:DAYLIGHT
TZOFFSETFROM:-0500
TZOFFSETTO:-0400
TZNAME:EDT
DTSTART:20240310T070000
END:DAYLIGHT
BEGIN:STANDARD
TZOFFSETFROM:-0400
TZOFFSETTO:-0500
TZNAME:EST
DTSTART:20241103T060000
END:STANDARD
END:VTIMEZONE
BEGIN:VEVENT
DTSTART;TZID=America/New_York:20230506T090000
DTEND;TZID=America/New_York:20230506T190000
DTSTAMP:20260421T043522
CREATED:20230405T141029Z
LAST-MODIFIED:20230502T171801Z
UID:18218-1683363600-1683399600@www.monmouthpark.com
SUMMARY:Derby Day
DESCRIPTION:
URL:https://www.monmouthpark.com/event/derby-day/
CATEGORIES:Festivals,Special Activities
ATTACH;FMTTYPE=image/jpeg:https://www.monmouthpark.com/wp-content/uploads/2023/03/DENV8353_B-scaled.jpg
END:VEVENT
BEGIN:VEVENT
DTSTART;TZID=America/New_York:20230513T110000
DTEND;TZID=America/New_York:20230513T180000
DTSTAMP:20260421T043522
CREATED:20221220T165322Z
LAST-MODIFIED:20230425T172603Z
UID:17357-1683975600-1684000800@www.monmouthpark.com
SUMMARY:$300 NHC/PYP Qualifier
DESCRIPTION:
URL:https://www.monmouthpark.com/event/300-nhc-pyp-qualifier/
CATEGORIES:Handicapping Contests
ATTACH;FMTTYPE=image/jpeg:https://www.monmouthpark.com/wp-content/uploads/2019/05/09-01-18-06-Decorated-Ace_Sorority_04.jpg
END:VEVENT
BEGIN:VEVENT
DTSTART;TZID=America/New_York:20230513T120000
DTEND;TZID=America/New_York:20230513T170000
DTSTAMP:20260421T043522
CREATED:20230125T155416Z
LAST-MODIFIED:20230508T193751Z
UID:17540-1683979200-1683997200@www.monmouthpark.com
SUMMARY:Opening Day!
DESCRIPTION:
URL:https://www.monmouthpark.com/event/opening-day/
CATEGORIES:Festivals,Special Activities
ATTACH;FMTTYPE=image/jpeg:https://www.monmouthpark.com/wp-content/uploads/2023/01/DENV9205-scaled.jpg
END:VEVENT
BEGIN:VEVENT
DTSTART;TZID=America/New_York:20230513T120000
DTEND;TZID=America/New_York:20230513T180000
DTSTAMP:20260421T043522
CREATED:20221213T153216Z
LAST-MODIFIED:20230125T160128Z
UID:17221-1683979200-1684000800@www.monmouthpark.com
SUMMARY:Live Racing
DESCRIPTION:
URL:https://www.monmouthpark.com/event/live-racing-3/2023-05-13/
CATEGORIES:Horse Racing
END:VEVENT
BEGIN:VEVENT
DTSTART;TZID=America/New_York:20230514T120000
DTEND;TZID=America/New_York:20230514T170000
DTSTAMP:20260421T043522
CREATED:20230125T174434Z
LAST-MODIFIED:20230511T152244Z
UID:17579-1684065600-1684083600@www.monmouthpark.com
SUMMARY:Mother's Day @ The Track
DESCRIPTION:
URL:https://www.monmouthpark.com/event/mothers-day/
CATEGORIES:Festivals,Special Activities
ATTACH;FMTTYPE=image/jpeg:https://www.monmouthpark.com/wp-content/uploads/2023/01/CD0G2052-scaled.jpg
END:VEVENT
BEGIN:VEVENT
DTSTART;TZID=America/New_York:20230529T120000
DTEND;TZID=America/New_York:20230529T180000
DTSTAMP:20260421T043522
CREATED:20221213T154256Z
LAST-MODIFIED:20230125T160406Z
UID:17317-1685361600-1685383200@www.monmouthpark.com
SUMMARY:Holiday Live Racing
DESCRIPTION:
URL:https://www.monmouthpark.com/event/holiday-live-racing-2/
CATEGORIES:Horse Racing
END:VEVENT
END:VCALENDAR